BEGIN:VCALENDAR
VERSION:2.0
PRODID:-//Clara Orif - ECPv6.0.11//NONSGML v1.0//EN
CALSCALE:GREGORIAN
METHOD:PUBLISH
X-WR-CALNAME:Clara Orif
X-ORIGINAL-URL:https://www.claraorif.com
X-WR-CALDESC:Events for Clara Orif
REFRESH-INTERVAL;VALUE=DURATION:PT1H
X-Robots-Tag:noindex
X-PUBLISHED-TTL:PT1H
BEGIN:VTIMEZONE
TZID:Europe/Paris
BEGIN:DAYLIGHT
TZOFFSETFROM:+0100
TZOFFSETTO:+0200
TZNAME:CEST
DTSTART:20240331T010000
END:DAYLIGHT
BEGIN:STANDARD
TZOFFSETFROM:+0200
TZOFFSETTO:+0100
TZNAME:CET
DTSTART:20241027T010000
END:STANDARD
END:VTIMEZONE
BEGIN:VEVENT
DTSTART;VALUE=DATE:20240114
DTEND;VALUE=DATE:20240115
DTSTAMP:20260420T112334
CREATED:20231119T160407Z
LAST-MODIFIED:20231119T161106Z
UID:379-1705190400-1705276799@www.claraorif.com
SUMMARY:Les Ariettes oubliées\, Claude Debussy\, Wigmore Hall
DESCRIPTION:Clara Orif performs with the Royal Academy of Music Song Circle the Ariettes oubliées (Forgotten Songs)\, melodies composed by France’s Claude Debussy to Paul Verlaines poems.
URL:https://www.claraorif.com/event/les-ariettes-oubliees-claude-debussy-wigmore-hall/
LOCATION:Wigmore Hall\, London\, United Kingdom
END:VEVENT
END:VCALENDAR